BEGIN:VCALENDAR
VERSION:2.0
PRODID:-//Windhundfreunde Mertingen - ECPv6.15.20//NONSGML v1.0//EN
CALSCALE:GREGORIAN
METHOD:PUBLISH
X-WR-CALNAME:Windhundfreunde Mertingen
X-ORIGINAL-URL:https://windhundfreunde-mertingen.de
X-WR-CALDESC:Veranstaltungen für Windhundfreunde Mertingen
REFRESH-INTERVAL;VALUE=DURATION:PT1H
X-Robots-Tag:noindex
X-PUBLISHED-TTL:PT1H
BEGIN:VTIMEZONE
TZID:Europe/Berlin
BEGIN:DAYLIGHT
TZOFFSETFROM:+0100
TZOFFSETTO:+0200
TZNAME:CEST
DTSTART:20250330T010000
END:DAYLIGHT
BEGIN:STANDARD
TZOFFSETFROM:+0200
TZOFFSETTO:+0100
TZNAME:CET
DTSTART:20251026T010000
END:STANDARD
BEGIN:DAYLIGHT
TZOFFSETFROM:+0100
TZOFFSETTO:+0200
TZNAME:CEST
DTSTART:20260329T010000
END:DAYLIGHT
BEGIN:STANDARD
TZOFFSETFROM:+0200
TZOFFSETTO:+0100
TZNAME:CET
DTSTART:20261025T010000
END:STANDARD
BEGIN:DAYLIGHT
TZOFFSETFROM:+0100
TZOFFSETTO:+0200
TZNAME:CEST
DTSTART:20270328T010000
END:DAYLIGHT
BEGIN:STANDARD
TZOFFSETFROM:+0200
TZOFFSETTO:+0100
TZNAME:CET
DTSTART:20271031T010000
END:STANDARD
END:VTIMEZONE
BEGIN:VEVENT
DTSTART;TZID=Europe/Berlin:20260502T140000
DTEND;TZID=Europe/Berlin:20260502T180000
DTSTAMP:20260422T124811
CREATED:20260413T063844Z
LAST-MODIFIED:20260413T063844Z
UID:6085-1777730400-1777744800@windhundfreunde-mertingen.de
SUMMARY:Training
DESCRIPTION:Am Rennplatz
URL:https://windhundfreunde-mertingen.de/event/training-3/
LOCATION:Windhundfreunde Mertingen e.V.\, Hagenmühlenweg 4\, Mertingen\, Bayern\, 86690\, Deutschland
CATEGORIES:Training 2026
END:VEVENT
BEGIN:VEVENT
DTSTART;TZID=Europe/Berlin:20260516T140000
DTEND;TZID=Europe/Berlin:20260516T180000
DTSTAMP:20260422T124811
CREATED:20260413T063854Z
LAST-MODIFIED:20260413T063854Z
UID:6086-1778940000-1778954400@windhundfreunde-mertingen.de
SUMMARY:Training
DESCRIPTION:Am Rennplatz
URL:https://windhundfreunde-mertingen.de/event/training-4/
LOCATION:Windhundfreunde Mertingen e.V.\, Hagenmühlenweg 4\, Mertingen\, Bayern\, 86690\, Deutschland
CATEGORIES:Training 2026
END:VEVENT
BEGIN:VEVENT
DTSTART;TZID=Europe/Berlin:20260530T140000
DTEND;TZID=Europe/Berlin:20260530T180000
DTSTAMP:20260422T124811
CREATED:20260413T063905Z
LAST-MODIFIED:20260413T063905Z
UID:6087-1780149600-1780164000@windhundfreunde-mertingen.de
SUMMARY:Training
DESCRIPTION:Am Rennplatz
URL:https://windhundfreunde-mertingen.de/event/training-5/
LOCATION:Windhundfreunde Mertingen e.V.\, Hagenmühlenweg 4\, Mertingen\, Bayern\, 86690\, Deutschland
CATEGORIES:Training 2026
END:VEVENT
BEGIN:VEVENT
DTSTART;TZID=Europe/Berlin:20260614T140000
DTEND;TZID=Europe/Berlin:20260614T180000
DTSTAMP:20260422T124811
CREATED:20260413T063919Z
LAST-MODIFIED:20260413T063919Z
UID:6088-1781445600-1781460000@windhundfreunde-mertingen.de
SUMMARY:Training
DESCRIPTION:Am Rennplatz
URL:https://windhundfreunde-mertingen.de/event/training-6/
LOCATION:Windhundfreunde Mertingen e.V.\, Hagenmühlenweg 4\, Mertingen\, Bayern\, 86690\, Deutschland
CATEGORIES:Training 2026
END:VEVENT
BEGIN:VEVENT
DTSTART;TZID=Europe/Berlin:20260627T140000
DTEND;TZID=Europe/Berlin:20260627T180000
DTSTAMP:20260422T124811
CREATED:20260413T063931Z
LAST-MODIFIED:20260413T063931Z
UID:6089-1782568800-1782583200@windhundfreunde-mertingen.de
SUMMARY:Training
DESCRIPTION:Am Rennplatz
URL:https://windhundfreunde-mertingen.de/event/training-7/
LOCATION:Windhundfreunde Mertingen e.V.\, Hagenmühlenweg 4\, Mertingen\, Bayern\, 86690\, Deutschland
CATEGORIES:Training 2026
END:VEVENT
BEGIN:VEVENT
DTSTART;TZID=Europe/Berlin:20260712T140000
DTEND;TZID=Europe/Berlin:20260712T180000
DTSTAMP:20260422T124811
CREATED:20260413T064102Z
LAST-MODIFIED:20260413T064102Z
UID:6096-1783864800-1783879200@windhundfreunde-mertingen.de
SUMMARY:Training
DESCRIPTION:Am Rennplatz
URL:https://windhundfreunde-mertingen.de/event/training-8/
LOCATION:Windhundfreunde Mertingen e.V.\, Hagenmühlenweg 4\, Mertingen\, Bayern\, 86690\, Deutschland
CATEGORIES:Training 2026
END:VEVENT
BEGIN:VEVENT
DTSTART;TZID=Europe/Berlin:20260725T140000
DTEND;TZID=Europe/Berlin:20260725T180000
DTSTAMP:20260422T124811
CREATED:20260413T064113Z
LAST-MODIFIED:20260413T064113Z
UID:6097-1784988000-1785002400@windhundfreunde-mertingen.de
SUMMARY:Training
DESCRIPTION:Am Rennplatz
URL:https://windhundfreunde-mertingen.de/event/training-9/
LOCATION:Windhundfreunde Mertingen e.V.\, Hagenmühlenweg 4\, Mertingen\, Bayern\, 86690\, Deutschland
CATEGORIES:Training 2026
END:VEVENT
BEGIN:VEVENT
DTSTART;TZID=Europe/Berlin:20260809T140000
DTEND;TZID=Europe/Berlin:20260809T180000
DTSTAMP:20260422T124811
CREATED:20260413T064123Z
LAST-MODIFIED:20260413T064123Z
UID:6098-1786284000-1786298400@windhundfreunde-mertingen.de
SUMMARY:Training
DESCRIPTION:Am Rennplatz
URL:https://windhundfreunde-mertingen.de/event/training-10/
LOCATION:Windhundfreunde Mertingen e.V.\, Hagenmühlenweg 4\, Mertingen\, Bayern\, 86690\, Deutschland
CATEGORIES:Training 2026
END:VEVENT
BEGIN:VEVENT
DTSTART;TZID=Europe/Berlin:20260822T140000
DTEND;TZID=Europe/Berlin:20260822T180000
DTSTAMP:20260422T124811
CREATED:20260413T064136Z
LAST-MODIFIED:20260413T064136Z
UID:6099-1787407200-1787421600@windhundfreunde-mertingen.de
SUMMARY:Training
DESCRIPTION:Am Rennplatz
URL:https://windhundfreunde-mertingen.de/event/training-11/
LOCATION:Windhundfreunde Mertingen e.V.\, Hagenmühlenweg 4\, Mertingen\, Bayern\, 86690\, Deutschland
CATEGORIES:Training 2026
END:VEVENT
BEGIN:VEVENT
DTSTART;TZID=Europe/Berlin:20260905T140000
DTEND;TZID=Europe/Berlin:20260905T180000
DTSTAMP:20260422T124811
CREATED:20260413T064146Z
LAST-MODIFIED:20260413T064146Z
UID:6100-1788616800-1788631200@windhundfreunde-mertingen.de
SUMMARY:Training
DESCRIPTION:Am Rennplatz
URL:https://windhundfreunde-mertingen.de/event/training-12/
LOCATION:Windhundfreunde Mertingen e.V.\, Hagenmühlenweg 4\, Mertingen\, Bayern\, 86690\, Deutschland
CATEGORIES:Training 2026
END:VEVENT
BEGIN:VEVENT
DTSTART;TZID=Europe/Berlin:20260919T140000
DTEND;TZID=Europe/Berlin:20260919T180000
DTSTAMP:20260422T124811
CREATED:20260413T064158Z
LAST-MODIFIED:20260413T064158Z
UID:6101-1789826400-1789840800@windhundfreunde-mertingen.de
SUMMARY:Training
DESCRIPTION:Am Rennplatz
URL:https://windhundfreunde-mertingen.de/event/training-13/
LOCATION:Windhundfreunde Mertingen e.V.\, Hagenmühlenweg 4\, Mertingen\, Bayern\, 86690\, Deutschland
CATEGORIES:Training 2026
END:VEVENT
BEGIN:VEVENT
DTSTART;TZID=Europe/Berlin:20261004T140000
DTEND;TZID=Europe/Berlin:20261004T180000
DTSTAMP:20260422T124811
CREATED:20260413T064209Z
LAST-MODIFIED:20260413T064209Z
UID:6102-1791122400-1791136800@windhundfreunde-mertingen.de
SUMMARY:Training
DESCRIPTION:Am Rennplatz
URL:https://windhundfreunde-mertingen.de/event/training-14/
LOCATION:Windhundfreunde Mertingen e.V.\, Hagenmühlenweg 4\, Mertingen\, Bayern\, 86690\, Deutschland
CATEGORIES:Training 2026
END:VEVENT
BEGIN:VEVENT
DTSTART;TZID=Europe/Berlin:20261017T140000
DTEND;TZID=Europe/Berlin:20261017T180000
DTSTAMP:20260422T124811
CREATED:20260413T064226Z
LAST-MODIFIED:20260413T064226Z
UID:6103-1792245600-1792260000@windhundfreunde-mertingen.de
SUMMARY:Training
DESCRIPTION:Am Rennplatz
URL:https://windhundfreunde-mertingen.de/event/training-15/
LOCATION:Windhundfreunde Mertingen e.V.\, Hagenmühlenweg 4\, Mertingen\, Bayern\, 86690\, Deutschland
CATEGORIES:Training 2026
END:VEVENT
BEGIN:VEVENT
DTSTART;TZID=Europe/Berlin:20261031T140000
DTEND;TZID=Europe/Berlin:20261031T180000
DTSTAMP:20260422T124811
CREATED:20260413T064356Z
LAST-MODIFIED:20260413T064356Z
UID:6112-1793455200-1793469600@windhundfreunde-mertingen.de
SUMMARY:Windhundzauberfest
DESCRIPTION:Am Rennplatz
URL:https://windhundfreunde-mertingen.de/event/windhundzauberfest/
LOCATION:Windhundfreunde Mertingen e.V.\, Hagenmühlenweg 4\, Mertingen\, Bayern\, 86690\, Deutschland
END:VEVENT
BEGIN:VEVENT
DTSTART;TZID=Europe/Berlin:20261114T140000
DTEND;TZID=Europe/Berlin:20261114T180000
DTSTAMP:20260422T124811
CREATED:20260413T064410Z
LAST-MODIFIED:20260413T064410Z
UID:6113-1794664800-1794679200@windhundfreunde-mertingen.de
SUMMARY:Training
DESCRIPTION:Am Rennplatz
URL:https://windhundfreunde-mertingen.de/event/training-16/
LOCATION:Windhundfreunde Mertingen e.V.\, Hagenmühlenweg 4\, Mertingen\, Bayern\, 86690\, Deutschland
CATEGORIES:Training 2026
END:VEVENT
BEGIN:VEVENT
DTSTART;TZID=Europe/Berlin:20261129T140000
DTEND;TZID=Europe/Berlin:20261129T180000
DTSTAMP:20260422T124811
CREATED:20260413T064419Z
LAST-MODIFIED:20260413T064419Z
UID:6114-1795960800-1795975200@windhundfreunde-mertingen.de
SUMMARY:Training
DESCRIPTION:Am Rennplatz
URL:https://windhundfreunde-mertingen.de/event/training-17/
LOCATION:Windhundfreunde Mertingen e.V.\, Hagenmühlenweg 4\, Mertingen\, Bayern\, 86690\, Deutschland
CATEGORIES:Training 2026
END:VEVENT
BEGIN:VEVENT
DTSTART;TZID=Europe/Berlin:20261206T140000
DTEND;TZID=Europe/Berlin:20261206T180000
DTSTAMP:20260422T124811
CREATED:20260413T064437Z
LAST-MODIFIED:20260413T064437Z
UID:6115-1796565600-1796580000@windhundfreunde-mertingen.de
SUMMARY:Weihnachtsfeier
DESCRIPTION:Am Rennplatz
URL:https://windhundfreunde-mertingen.de/event/weihnachtsfeier-2/
LOCATION:Windhundfreunde Mertingen e.V.\, Hagenmühlenweg 4\, Mertingen\, Bayern\, 86690\, Deutschland
CATEGORIES:Weihnachtsfeier
END:VEVENT
END:VCALENDAR